BEGIN:VCALENDAR
VERSION:2.0
PRODID:-//Bund der Selbständigen Baden-Württemberg e.V. - ECPv6.15.20//NONSGML v1.0//EN
CALSCALE:GREGORIAN
METHOD:PUBLISH
X-WR-CALNAME:Bund der Selbständigen Baden-Württemberg e.V.
X-ORIGINAL-URL:https://bds-bw.de
X-WR-CALDESC:Veranstaltungen für Bund der Selbständigen Baden-Württemberg e.V.
REFRESH-INTERVAL;VALUE=DURATION:PT1H
X-Robots-Tag:noindex
X-PUBLISHED-TTL:PT1H
BEGIN:VTIMEZONE
TZID:Europe/Berlin
BEGIN:DAYLIGHT
TZOFFSETFROM:+0100
TZOFFSETTO:+0200
TZNAME:CEST
DTSTART:20250330T010000
END:DAYLIGHT
BEGIN:STANDARD
TZOFFSETFROM:+0200
TZOFFSETTO:+0100
TZNAME:CET
DTSTART:20251026T010000
END:STANDARD
BEGIN:DAYLIGHT
TZOFFSETFROM:+0100
TZOFFSETTO:+0200
TZNAME:CEST
DTSTART:20260329T010000
END:DAYLIGHT
BEGIN:STANDARD
TZOFFSETFROM:+0200
TZOFFSETTO:+0100
TZNAME:CET
DTSTART:20261025T010000
END:STANDARD
BEGIN:DAYLIGHT
TZOFFSETFROM:+0100
TZOFFSETTO:+0200
TZNAME:CEST
DTSTART:20270328T010000
END:DAYLIGHT
BEGIN:STANDARD
TZOFFSETFROM:+0200
TZOFFSETTO:+0100
TZNAME:CET
DTSTART:20271031T010000
END:STANDARD
END:VTIMEZONE
BEGIN:VEVENT
DTSTART;TZID=Europe/Berlin:20260506T180000
DTEND;TZID=Europe/Berlin:20260506T180000
DTSTAMP:20260424T072614
CREATED:20260423T124128Z
LAST-MODIFIED:20260423T124128Z
UID:10000176-1778090400-1778090400@bds-bw.de
SUMMARY:BDS Ludwigsburg: After-Work im Jägerhofpalais mit Impulsvortrag
DESCRIPTION:Der BDS Ludwigsburg lädt ein: Feierabend\, aber mit Mehrwert\nDas After-Work-Event findet in einer wunderschönen Location – dem historischen Jägerhofpalais – statt. Neben einem Impulsvortrag von Anja Kayser „Krank ist krank- die teuerste Ausrede in Ihrem Unternehmen?“ gibt es ausreichend Zeit und Gelegenheit für einen entspannten Austausch und schöne Gespräche. \nDie detaillierten Infos und die Anmeldung direkt beim BDS Ludwigsburg >> \n 
URL:https://bds-bw.de/veranstaltung/bds-ludwigsburg-after-work-im-jaegerhofpalais-mit-impulsvortrag/
LOCATION:Jägerhofpalais\, Schorndorfer Str. 42\, Ludwigsburg\, 71638\, Deutschland
CATEGORIES:BDS vor Ort,Kreisverbände - Ortsvereine - Gruppen
ATTACH;FMTTYPE=image/jpeg:https://bds-bw.de/wp-content/uploads/2026/04/Jaegerhofpalais-ludwigsburg.jpg
END:VEVENT
END:VCALENDAR